BEGIN:VCALENDAR
VERSION:2.0
PRODID:-//Clonmore Parish - ECPv6.15.17.1//NONSGML v1.0//EN
CALSCALE:GREGORIAN
METHOD:PUBLISH
X-WR-CALNAME:Clonmore Parish
X-ORIGINAL-URL:https://www.clonmoreparish.ie
X-WR-CALDESC:Events for Clonmore Parish
REFRESH-INTERVAL;VALUE=DURATION:PT1H
X-Robots-Tag:noindex
X-PUBLISHED-TTL:PT1H
BEGIN:VTIMEZONE
TZID:UTC
BEGIN:STANDARD
TZOFFSETFROM:+0000
TZOFFSETTO:+0000
TZNAME:UTC
DTSTART:20240101T000000
END:STANDARD
END:VTIMEZONE
BEGIN:VEVENT
DTSTART;TZID=UTC:20250706T103000
DTEND;TZID=UTC:20250706T103000
DTSTAMP:20260421T174601
CREATED:20180802T140502Z
LAST-MODIFIED:20250107T174205Z
UID:15230-1751797800-1751797800@www.clonmoreparish.ie
SUMMARY:Sunday Mass (Clonmore)
DESCRIPTION:Sunday Mass – Clonmore
URL:https://www.clonmoreparish.ie/event/sunday-mass-clonmore/2025-07-06/
CATEGORIES:Clonmore Masses
END:VEVENT
BEGIN:VEVENT
DTSTART;TZID=UTC:20250713T103000
DTEND;TZID=UTC:20250713T103000
DTSTAMP:20260421T174601
CREATED:20180802T140502Z
LAST-MODIFIED:20250114T174207Z
UID:15235-1752402600-1752402600@www.clonmoreparish.ie
SUMMARY:Sunday Mass (Clonmore)
DESCRIPTION:Sunday Mass – Clonmore
URL:https://www.clonmoreparish.ie/event/sunday-mass-clonmore/2025-07-13/
CATEGORIES:Clonmore Masses
END:VEVENT
BEGIN:VEVENT
DTSTART;TZID=UTC:20250720T103000
DTEND;TZID=UTC:20250720T103000
DTSTAMP:20260421T174601
CREATED:20180802T140502Z
LAST-MODIFIED:20250121T174206Z
UID:15243-1753007400-1753007400@www.clonmoreparish.ie
SUMMARY:Sunday Mass (Clonmore)
DESCRIPTION:Sunday Mass – Clonmore
URL:https://www.clonmoreparish.ie/event/sunday-mass-clonmore/2025-07-20/
CATEGORIES:Clonmore Masses
END:VEVENT
BEGIN:VEVENT
DTSTART;TZID=UTC:20250727T103000
DTEND;TZID=UTC:20250727T103000
DTSTAMP:20260421T174601
CREATED:20180802T140502Z
LAST-MODIFIED:20250128T174204Z
UID:15248-1753612200-1753612200@www.clonmoreparish.ie
SUMMARY:Sunday Mass (Clonmore)
DESCRIPTION:Sunday Mass – Clonmore
URL:https://www.clonmoreparish.ie/event/sunday-mass-clonmore/2025-07-27/
CATEGORIES:Clonmore Masses
END:VEVENT
END:VCALENDAR