BEGIN:VCALENDAR
VERSION:2.0
PRODID:-//Clonmore Parish - ECPv6.15.17.1//NONSGML v1.0//EN
CALSCALE:GREGORIAN
METHOD:PUBLISH
X-WR-CALNAME:Clonmore Parish
X-ORIGINAL-URL:https://www.clonmoreparish.ie
X-WR-CALDESC:Events for Clonmore Parish
REFRESH-INTERVAL;VALUE=DURATION:PT1H
X-Robots-Tag:noindex
X-PUBLISHED-TTL:PT1H
BEGIN:VTIMEZONE
TZID:UTC
BEGIN:STANDARD
TZOFFSETFROM:+0000
TZOFFSETTO:+0000
TZNAME:UTC
DTSTART:20240101T000000
END:STANDARD
END:VTIMEZONE
BEGIN:VEVENT
DTSTART;TZID=UTC:20250907T103000
DTEND;TZID=UTC:20250907T103000
DTSTAMP:20260421T150744
CREATED:20180802T140502Z
LAST-MODIFIED:20250308T174207Z
UID:15298-1757241000-1757241000@www.clonmoreparish.ie
SUMMARY:Sunday Mass (Clonmore)
DESCRIPTION:Sunday Mass – Clonmore
URL:https://www.clonmoreparish.ie/event/sunday-mass-clonmore/2025-09-07/
CATEGORIES:Clonmore Masses
END:VEVENT
BEGIN:VEVENT
DTSTART;TZID=UTC:20250914T103000
DTEND;TZID=UTC:20250914T103000
DTSTAMP:20260421T150744
CREATED:20180802T140502Z
LAST-MODIFIED:20250315T174206Z
UID:15303-1757845800-1757845800@www.clonmoreparish.ie
SUMMARY:Sunday Mass (Clonmore)
DESCRIPTION:Sunday Mass – Clonmore
URL:https://www.clonmoreparish.ie/event/sunday-mass-clonmore/2025-09-14/
CATEGORIES:Clonmore Masses
END:VEVENT
BEGIN:VEVENT
DTSTART;TZID=UTC:20250921T103000
DTEND;TZID=UTC:20250921T103000
DTSTAMP:20260421T150744
CREATED:20180802T140502Z
LAST-MODIFIED:20250322T174210Z
UID:15310-1758450600-1758450600@www.clonmoreparish.ie
SUMMARY:Sunday Mass (Clonmore)
DESCRIPTION:Sunday Mass – Clonmore
URL:https://www.clonmoreparish.ie/event/sunday-mass-clonmore/2025-09-21/
CATEGORIES:Clonmore Masses
END:VEVENT
BEGIN:VEVENT
DTSTART;TZID=UTC:20250928T103000
DTEND;TZID=UTC:20250928T103000
DTSTAMP:20260421T150744
CREATED:20180802T140502Z
LAST-MODIFIED:20250329T174207Z
UID:15318-1759055400-1759055400@www.clonmoreparish.ie
SUMMARY:Sunday Mass (Clonmore)
DESCRIPTION:Sunday Mass – Clonmore
URL:https://www.clonmoreparish.ie/event/sunday-mass-clonmore/2025-09-28/
CATEGORIES:Clonmore Masses
END:VEVENT
END:VCALENDAR