BEGIN:VCALENDAR
VERSION:2.0
PRODID:-//Clonmore Parish - ECPv6.15.17.1//NONSGML v1.0//EN
CALSCALE:GREGORIAN
METHOD:PUBLISH
X-ORIGINAL-URL:https://www.clonmoreparish.ie
X-WR-CALDESC:Events for Clonmore Parish
REFRESH-INTERVAL;VALUE=DURATION:PT1H
X-Robots-Tag:noindex
X-PUBLISHED-TTL:PT1H
BEGIN:VTIMEZONE
TZID:UTC
BEGIN:STANDARD
TZOFFSETFROM:+0000
TZOFFSETTO:+0000
TZNAME:UTC
DTSTART:20240101T000000
END:STANDARD
END:VTIMEZONE
BEGIN:VEVENT
DTSTART;TZID=UTC:20251005T103000
DTEND;TZID=UTC:20251005T103000
DTSTAMP:20260421T134615
CREATED:20180802T140502Z
LAST-MODIFIED:20250406T174207Z
UID:15325-1759660200-1759660200@www.clonmoreparish.ie
SUMMARY:Sunday Mass (Clonmore)
DESCRIPTION:Sunday Mass – Clonmore
URL:https://www.clonmoreparish.ie/event/sunday-mass-clonmore/2025-10-05/
CATEGORIES:Clonmore Masses
END:VEVENT
BEGIN:VEVENT
DTSTART;TZID=UTC:20251012T103000
DTEND;TZID=UTC:20251012T103000
DTSTAMP:20260421T134615
CREATED:20180802T140502Z
LAST-MODIFIED:20250413T174208Z
UID:15341-1760265000-1760265000@www.clonmoreparish.ie
SUMMARY:Sunday Mass (Clonmore)
DESCRIPTION:Sunday Mass – Clonmore
URL:https://www.clonmoreparish.ie/event/sunday-mass-clonmore/2025-10-12/
CATEGORIES:Clonmore Masses
END:VEVENT
BEGIN:VEVENT
DTSTART;TZID=UTC:20251019T103000
DTEND;TZID=UTC:20251019T103000
DTSTAMP:20260421T134615
CREATED:20180802T140502Z
LAST-MODIFIED:20250420T174206Z
UID:15347-1760869800-1760869800@www.clonmoreparish.ie
SUMMARY:Sunday Mass (Clonmore)
DESCRIPTION:Sunday Mass – Clonmore
URL:https://www.clonmoreparish.ie/event/sunday-mass-clonmore/2025-10-19/
CATEGORIES:Clonmore Masses
END:VEVENT
BEGIN:VEVENT
DTSTART;TZID=UTC:20251026T103000
DTEND;TZID=UTC:20251026T103000
DTSTAMP:20260421T134615
CREATED:20180802T140502Z
LAST-MODIFIED:20250427T174206Z
UID:15352-1761474600-1761474600@www.clonmoreparish.ie
SUMMARY:Sunday Mass (Clonmore)
DESCRIPTION:Sunday Mass – Clonmore
URL:https://www.clonmoreparish.ie/event/sunday-mass-clonmore/2025-10-26/
CATEGORIES:Clonmore Masses
END:VEVENT
END:VCALENDAR