BEGIN:VCALENDAR
VERSION:2.0
PRODID:-//Clonmore Parish - ECPv6.15.17.1//NONSGML v1.0//EN
CALSCALE:GREGORIAN
METHOD:PUBLISH
X-ORIGINAL-URL:https://www.clonmoreparish.ie
X-WR-CALDESC:Events for Clonmore Parish
REFRESH-INTERVAL;VALUE=DURATION:PT1H
X-Robots-Tag:noindex
X-PUBLISHED-TTL:PT1H
BEGIN:VTIMEZONE
TZID:UTC
BEGIN:STANDARD
TZOFFSETFROM:+0000
TZOFFSETTO:+0000
TZNAME:UTC
DTSTART:20240101T000000
END:STANDARD
END:VTIMEZONE
BEGIN:VEVENT
DTSTART;TZID=UTC:20251207T103000
DTEND;TZID=UTC:20251207T103000
DTSTAMP:20260421T111324
CREATED:20180802T140502Z
LAST-MODIFIED:20250608T174206Z
UID:15388-1765103400-1765103400@www.clonmoreparish.ie
SUMMARY:Sunday Mass (Clonmore)
DESCRIPTION:Sunday Mass – Clonmore
URL:https://www.clonmoreparish.ie/event/sunday-mass-clonmore/2025-12-07/
CATEGORIES:Clonmore Masses
END:VEVENT
BEGIN:VEVENT
DTSTART;TZID=UTC:20251214T103000
DTEND;TZID=UTC:20251214T103000
DTSTAMP:20260421T111324
CREATED:20180802T140502Z
LAST-MODIFIED:20250615T174206Z
UID:15407-1765708200-1765708200@www.clonmoreparish.ie
SUMMARY:Sunday Mass (Clonmore)
DESCRIPTION:Sunday Mass – Clonmore
URL:https://www.clonmoreparish.ie/event/sunday-mass-clonmore/2025-12-14/
CATEGORIES:Clonmore Masses
END:VEVENT
BEGIN:VEVENT
DTSTART;TZID=UTC:20251221T103000
DTEND;TZID=UTC:20251221T103000
DTSTAMP:20260421T111324
CREATED:20180802T140502Z
LAST-MODIFIED:20250622T174206Z
UID:15419-1766313000-1766313000@www.clonmoreparish.ie
SUMMARY:Sunday Mass (Clonmore)
DESCRIPTION:Sunday Mass – Clonmore
URL:https://www.clonmoreparish.ie/event/sunday-mass-clonmore/2025-12-21/
CATEGORIES:Clonmore Masses
END:VEVENT
BEGIN:VEVENT
DTSTART;TZID=UTC:20251228T103000
DTEND;TZID=UTC:20251228T103000
DTSTAMP:20260421T111324
CREATED:20180802T140502Z
LAST-MODIFIED:20250629T174207Z
UID:15425-1766917800-1766917800@www.clonmoreparish.ie
SUMMARY:Sunday Mass (Clonmore)
DESCRIPTION:Sunday Mass – Clonmore
URL:https://www.clonmoreparish.ie/event/sunday-mass-clonmore/2025-12-28/
CATEGORIES:Clonmore Masses
END:VEVENT
END:VCALENDAR