BEGIN:VCALENDAR
VERSION:2.0
PRODID:-//Clonmore Parish - ECPv6.15.17.1//NONSGML v1.0//EN
CALSCALE:GREGORIAN
METHOD:PUBLISH
X-WR-CALNAME:Clonmore Parish
X-ORIGINAL-URL:https://www.clonmoreparish.ie
X-WR-CALDESC:Events for Clonmore Parish
REFRESH-INTERVAL;VALUE=DURATION:PT1H
X-Robots-Tag:noindex
X-PUBLISHED-TTL:PT1H
BEGIN:VTIMEZONE
TZID:UTC
BEGIN:STANDARD
TZOFFSETFROM:+0000
TZOFFSETTO:+0000
TZNAME:UTC
DTSTART:20250101T000000
END:STANDARD
END:VTIMEZONE
BEGIN:VEVENT
DTSTART;TZID=UTC:20261011T103000
DTEND;TZID=UTC:20261011T103000
DTSTAMP:20260421T104517
CREATED:20180802T140502Z
LAST-MODIFIED:20260412T174205Z
UID:15788-1791714600-1791714600@www.clonmoreparish.ie
SUMMARY:Sunday Mass (Clonmore)
DESCRIPTION:Sunday Mass – Clonmore
URL:https://www.clonmoreparish.ie/event/sunday-mass-clonmore/2026-10-11/
CATEGORIES:Clonmore Masses
END:VEVENT
BEGIN:VEVENT
DTSTART;TZID=UTC:20261018T103000
DTEND;TZID=UTC:20261018T103000
DTSTAMP:20260421T104517
CREATED:20180802T140502Z
LAST-MODIFIED:20260419T174208Z
UID:15792-1792319400-1792319400@www.clonmoreparish.ie
SUMMARY:Sunday Mass (Clonmore)
DESCRIPTION:Sunday Mass – Clonmore
URL:https://www.clonmoreparish.ie/event/sunday-mass-clonmore/2026-10-18/
CATEGORIES:Clonmore Masses
END:VEVENT
END:VCALENDAR