BEGIN:VCALENDAR
VERSION:2.0
PRODID:-//Clonmore Parish - ECPv6.15.17.1//NONSGML v1.0//EN
CALSCALE:GREGORIAN
METHOD:PUBLISH
X-ORIGINAL-URL:https://www.clonmoreparish.ie
X-WR-CALDESC:Events for Clonmore Parish
REFRESH-INTERVAL;VALUE=DURATION:PT1H
X-Robots-Tag:noindex
X-PUBLISHED-TTL:PT1H
BEGIN:VTIMEZONE
TZID:Europe/Dublin
BEGIN:STANDARD
TZOFFSETFROM:+0000
TZOFFSETTO:+0100
TZNAME:IST
DTSTART:20180325T010000
END:STANDARD
BEGIN:DAYLIGHT
TZOFFSETFROM:+0100
TZOFFSETTO:+0000
TZNAME:GMT
DTSTART:20181028T010000
END:DAYLIGHT
BEGIN:STANDARD
TZOFFSETFROM:+0000
TZOFFSETTO:+0100
TZNAME:IST
DTSTART:20190331T010000
END:STANDARD
BEGIN:DAYLIGHT
TZOFFSETFROM:+0100
TZOFFSETTO:+0000
TZNAME:GMT
DTSTART:20191027T010000
END:DAYLIGHT
BEGIN:STANDARD
TZOFFSETFROM:+0000
TZOFFSETTO:+0100
TZNAME:IST
DTSTART:20200329T010000
END:STANDARD
BEGIN:DAYLIGHT
TZOFFSETFROM:+0100
TZOFFSETTO:+0000
TZNAME:GMT
DTSTART:20201025T010000
END:DAYLIGHT
END:VTIMEZONE
BEGIN:VEVENT
DTSTART;VALUE=DATE:20190126
DTEND;VALUE=DATE:20190318
DTSTAMP:20260420T204351
CREATED:20190126T113936Z
LAST-MODIFIED:20190126T113936Z
UID:10674-1548460800-1552867199@www.clonmoreparish.ie
SUMMARY:Pilgrimage to Santiago - The Portuguese Way - August 20th. - 27th.
DESCRIPTION:Pilgrimage to Santiago; including walk the Camino –\nThe Portuguese Way”. August 20th. – 27th. 2019.\nCost: €890 per person sharing twin room. Cost includes: \n\nReturn flights Dublin/Vigo/Santiago/Dublin\nAll current taxes and charges (including 20 kg baggage allowance)\nAll coach transfers from Vigo to the Hotel.\nWalk the Camino package: “The Portuguese Way”\nWalking from Valenca Do Minho.\nSix nights accommodation along the way.\nOne night in Santiago city..\nAll accommodation on Bed and Breakfast basis.\nTwin rooms sharing with shower/WC.\n\nDeposit €200 per person no later than February 22nd.
URL:https://www.clonmoreparish.ie/event/pilgrimage-to-santiago-the-portuguese-way-august-20th-27th/
ORGANIZER;CN="Fr. John O'Brien":MAILTO:frjohn51@gmail.com
END:VEVENT
END:VCALENDAR